BEGIN:VCALENDAR
VERSION:2.0
PRODID:-//AFF - ECPv6.15.17.1//NONSGML v1.0//EN
CALSCALE:GREGORIAN
METHOD:PUBLISH
X-ORIGINAL-URL:https://aff.a.se
X-WR-CALDESC:Händelser för AFF
REFRESH-INTERVAL;VALUE=DURATION:PT1H
X-Robots-Tag:noindex
X-PUBLISHED-TTL:PT1H
BEGIN:VTIMEZONE
TZID:Europe/Stockholm
BEGIN:DAYLIGHT
TZOFFSETFROM:+0100
TZOFFSETTO:+0200
TZNAME:CEST
DTSTART:20180325T010000
END:DAYLIGHT
BEGIN:STANDARD
TZOFFSETFROM:+0200
TZOFFSETTO:+0100
TZNAME:CET
DTSTART:20181028T010000
END:STANDARD
BEGIN:DAYLIGHT
TZOFFSETFROM:+0100
TZOFFSETTO:+0200
TZNAME:CEST
DTSTART:20190331T010000
END:DAYLIGHT
BEGIN:STANDARD
TZOFFSETFROM:+0200
TZOFFSETTO:+0100
TZNAME:CET
DTSTART:20191027T010000
END:STANDARD
BEGIN:DAYLIGHT
TZOFFSETFROM:+0100
TZOFFSETTO:+0200
TZNAME:CEST
DTSTART:20200329T010000
END:DAYLIGHT
BEGIN:STANDARD
TZOFFSETFROM:+0200
TZOFFSETTO:+0100
TZNAME:CET
DTSTART:20201025T010000
END:STANDARD
END:VTIMEZONE
BEGIN:VEVENT
DTSTART;TZID=Europe/Stockholm:20190325T130000
DTEND;TZID=Europe/Stockholm:20190325T140000
DTSTAMP:20260422T062928
CREATED:20190315T084510Z
LAST-MODIFIED:20190315T093212Z
UID:3286-1553518800-1553522400@aff.a.se
SUMMARY:Kärnvapenförbudskonventionen - borde Sverige underteckna?
DESCRIPTION:Folk och försvar bjuder nu in\, tillsammans med medlemsorganisationerna Svenska Atlantkommittén och Allmänna försvarsföreningen till ett seminarium om utredningen av konsekvenserna av ett svenskt tillträde till konventionen om förbud mot kärnvapen.\nSverige har under decennier varit ett land som internationellt aktivt arbetat för nedrustning. Trots våra ambitioner för en kärnvapenfri värld har även Sverige haft ett eget kärnvapenprogram. Sverige skrev dock på ickespridningsavtalet\, NPT\, 1968 och slutförde processen med ratificering och implementering 1972. I och med detta förband sig Sverige att inte utveckla eller skaffa kärnvapen. Konventionen\, NPT\, är allt sedan dess gällande och har utvecklats med bl.a. IAEA:s tilläggsprotokoll under 1990-talet. \nSommaren 2017 röstades FN:s konvention om kärnvapenförbud igenom. En konvention som dåvarande regering såg positivt på men som fick mycket kritik i bland annat den svenska försvars och säkerhetsdebatten. Orsakerna till kritiken är sannolikt många\, men ett par av de argument som framförts är konventionens skrivningar som rör så kallade dual use\, alltså produkter som tas fram i ett syfte men kan användas i fler syften. I konventionen framgår att en signatär ska ”avbryta samarbete och hjälp vad avser kärnvapenrelaterade verksamheter och anläggningar omedelbart”. Ett annat argument som framförts är att ett svenskt undertecknande av konventionen skulle leda till realpolitiska effekter på både bilaterala likväl som multilaterala relationer. \nFör att fördjupa förståelsen för denna kritik tillsatte regeringen en utredning med uppdraget att ”analysera konventionens innebörd och de konsekvenser ett svenskt tillträde till konventionen kan komma att få avseende bland annat följande områden: svensk nedrustnings-/icke-spridningspolitik\, Sveriges samlade bi- och multilaterala säkerhets- och försvarspolitiska samarbeten […]”. Utredningen presenterades av utredaren Lars-Erik Lundin 18 januari i år. Slutsatsen var att ”Sverige varken bör tillträda eller underteckna konventionen i dess nuvarande form.” \nTillsammans med Svenska Atlantkommittén och Allmänna försvarsföreningen bjuder nu Folk och Försvar in till ett seminarium där vi kommer få en djupare inblick i utredningen slutsatser. Vi kommer få djupare kunskap i vilka effekter konventionen kommer ha för svensk forskning och utveckling både civilt och militärt. Samt hur civila aktörer eventuellt påverkas av konventionen då just dual use kan innebära ett problem och huruvida utredaren anser att ett tillträdande av konventionen kommer leda till nedrustning eller inte. \nFör att se inbjudan i sin helhet klicka HÄR. \nAnmälan görs HÄR.
URL:https://aff.a.se/event/karnvapenforbudskonventionen-borde-sverige-underteckna/
LOCATION:Myntkabinettet\, Slottsbacken 6\, Stockholm
END:VEVENT
END:VCALENDAR