BEGIN:VCALENDAR
VERSION:2.0
PRODID:-//AFF - ECPv6.15.17.1//NONSGML v1.0//EN
CALSCALE:GREGORIAN
METHOD:PUBLISH
X-ORIGINAL-URL:https://aff.a.se
X-WR-CALDESC:Händelser för AFF
REFRESH-INTERVAL;VALUE=DURATION:PT1H
X-Robots-Tag:noindex
X-PUBLISHED-TTL:PT1H
BEGIN:VTIMEZONE
TZID:Europe/Stockholm
BEGIN:DAYLIGHT
TZOFFSETFROM:+0100
TZOFFSETTO:+0200
TZNAME:CEST
DTSTART:20180325T010000
END:DAYLIGHT
BEGIN:STANDARD
TZOFFSETFROM:+0200
TZOFFSETTO:+0100
TZNAME:CET
DTSTART:20181028T010000
END:STANDARD
BEGIN:DAYLIGHT
TZOFFSETFROM:+0100
TZOFFSETTO:+0200
TZNAME:CEST
DTSTART:20190331T010000
END:DAYLIGHT
BEGIN:STANDARD
TZOFFSETFROM:+0200
TZOFFSETTO:+0100
TZNAME:CET
DTSTART:20191027T010000
END:STANDARD
BEGIN:DAYLIGHT
TZOFFSETFROM:+0100
TZOFFSETTO:+0200
TZNAME:CEST
DTSTART:20200329T010000
END:DAYLIGHT
BEGIN:STANDARD
TZOFFSETFROM:+0200
TZOFFSETTO:+0100
TZNAME:CET
DTSTART:20201025T010000
END:STANDARD
END:VTIMEZONE
BEGIN:VEVENT
DTSTART;TZID=Europe/Stockholm:20190326T180000
DTEND;TZID=Europe/Stockholm:20190326T210000
DTSTAMP:20260422T045828
CREATED:20190218T151352Z
LAST-MODIFIED:20190220T134643Z
UID:3162-1553623200-1553634000@aff.a.se
SUMMARY:AFF Skåne inbjuder till årsstämma
DESCRIPTION:AFF i Skåne i samverkan med Försvarsutbildarna i Skåne bjuder in till årsstämma med föredrag av Oscar Jonsson den 26 mars 2019 \nProgram\n\n\n\n18.00\nVD Aimpoint inledning\n\n\n18.15\nFöredrag av Oskar Jonsson\, Frivärld\n”Rysk strategi och krigföring: vad vill Ryssland och hur gör de?”\n\n\n19:00\nFrågor och svar\n\n\n19:30\nAff Skåne Årsstämma\n\n\n19.45\nMåltid\n\n\n\nOscar Jonsson är vikarierande chef för Frivärld under 2019. Oscar är disputerad i krigsvetenskap vid Department of War Studies\,King’s College London. Oscar är associerad forskare vid Försvarshögskolan har varit gästforskare vid UC Berkeley och samt arbetat i Försvarsmaktens Högkvarter med hybridkrigföring och rysk strategi. Oscar har även arbetat med EU:s gemensamma försvars- och säkerhetspolitik vid EU:s Institute för Säkerhetspolitiska Studier i Paris. Oscar har skrivit artiklar i bland annat Foreign Policy\, Forbes\, Svenska Dagbladet\, Expressen och kommenterat försvars- och säkerhetspolitik i svenska och internationella medier. \nAnmälan\nSenast den 20 mars 2019 till Bengt Jansson\nEmail: bb.jansson@telia.com\, tel 070-2714471\nAnmäl om du INTE avser delta i årsstämma och måltid. \nVälkommen!\nOla Fischer ordförande Aff Skåne
URL:https://aff.a.se/event/aff-skane-inbjuder-till-arsstamma/
LOCATION:Kockum Fritid\, Västra Varvsgatan 8\, Malmö\, 211 11\, Sverige
END:VEVENT
END:VCALENDAR