BEGIN:VCALENDAR
VERSION:2.0
PRODID:-//AFF - ECPv6.15.17.1//NONSGML v1.0//EN
CALSCALE:GREGORIAN
METHOD:PUBLISH
X-WR-CALNAME:AFF
X-ORIGINAL-URL:https://aff.a.se
X-WR-CALDESC:Händelser för AFF
REFRESH-INTERVAL;VALUE=DURATION:PT1H
X-Robots-Tag:noindex
X-PUBLISHED-TTL:PT1H
BEGIN:VTIMEZONE
TZID:Europe/Stockholm
BEGIN:DAYLIGHT
TZOFFSETFROM:+0100
TZOFFSETTO:+0200
TZNAME:CEST
DTSTART:20180325T010000
END:DAYLIGHT
BEGIN:STANDARD
TZOFFSETFROM:+0200
TZOFFSETTO:+0100
TZNAME:CET
DTSTART:20181028T010000
END:STANDARD
BEGIN:DAYLIGHT
TZOFFSETFROM:+0100
TZOFFSETTO:+0200
TZNAME:CEST
DTSTART:20190331T010000
END:DAYLIGHT
BEGIN:STANDARD
TZOFFSETFROM:+0200
TZOFFSETTO:+0100
TZNAME:CET
DTSTART:20191027T010000
END:STANDARD
BEGIN:DAYLIGHT
TZOFFSETFROM:+0100
TZOFFSETTO:+0200
TZNAME:CEST
DTSTART:20200329T010000
END:DAYLIGHT
BEGIN:STANDARD
TZOFFSETFROM:+0200
TZOFFSETTO:+0100
TZNAME:CET
DTSTART:20201025T010000
END:STANDARD
END:VTIMEZONE
BEGIN:VEVENT
DTSTART;TZID=Europe/Stockholm:20190328T180000
DTEND;TZID=Europe/Stockholm:20190328T203000
DTSTAMP:20260422T014025
CREATED:20190220T133802Z
LAST-MODIFIED:20190220T134510Z
UID:3192-1553796000-1553805000@aff.a.se
SUMMARY:AFF Östergötland inbjuder till seminarium och länsstämma
DESCRIPTION:Allmänna försvarsföreningens länsavdelning i Östergötland i samverkan med Försvarsutbildarna i Östergötland och Flygvapenmuseum inbjuder personer och organisationer som är intresserade av samhällssäkerhet till ett seminarium i Linköping. \nSeminariet föregås av länsavdelningens stämma där medlemmar i föreningen är välkomna att delta. Övriga är välkomna att lyssna. \nInformationspåverkan som vapen – en pågående vilseledning i vår vardag\nEtt försämrat omvärldsläge har ökat behovet av att höja kunskapen om hur samhällsfunktioner kan identifiera\, förstå och möta informationspåverkan. Påverkanskampanjer har blivit allt mer sofistikerade och kan användas såväl i fredstid som i krig. Myndigheten för Samhällsskydd och Beredskap definierar informationspåverkan som: ”Aktiviteter som genomförs av främmande makt\, eller antagonistiska aktörer\, i syfte att påverka olika målgruppers uppfattningar\, beteenden och beslutsfattande. Informationspåverkan utnyttjar samhällets sårbarhet och kan utmana befolkningens liv och hälsa\, samhällets funktionalitet\, våra grundläggande värden som demokrati\, rättssäkerhet och mänskliga fri- och rättigheter eller andra nationella intressen.” \nProgram\nStart kl 1810 \n\nVälkomsthälsning\nOrdförande i allmänna försvarsföreningen i Östergötland\, Landshövding Carl Fredrik Graf.\nInformationspåverkan mot Sverige\nPresentation av Anton Lif\, Projektledare för ”Att möta informationspåverkan – medborgerlig motståndskraft 2017 – 2018”. Försvarsutbildarna.\nHur motverkas vilseledning\nPresentation av Mariethe Larsson\, kommunikationsdirektör Linköpings Universitet.\nPanelsamtal och frågestund\nModerator: Chefredaktör Widar Andersson\, Folkbladet.\n\nHålltider\n\n\n17.30\nInsläpp\n\n\n\n18.00\nLänsavdelningens årsstämma\n\n\n\n18.10\nSeminariet inleds\n\n\n\n19.45\nSeminariet avslutas\n\n\nAnmälan\nVi förordar att du anmäler dig via epost. För medlemmar i allmänna försvarsföreningen till Göran Grönberg\, gogro@hotmail.com (mobil 0705220253). Medlemmar i Försvarsutbildningsförbundet anmäler sig enligt ordinarie rutiner. \nVarmt välkommen!\n\nKallelse till Länsstämma 2019\nSamling kl 1800 i Flygvapenmuseum\, Malmslätt\, Linköping. \n\nStämmans öppnande.\nVerksamhetsberättelse 2018 med plan för 2019.\nVal av styrelse:\nFörslag: Omval av ledamöterna Sven Lindgren\, Lars Jagerfelt\, Linn Lichtermann\, Mattias Ottosson\, Betty Malmberg och Thomas Ljungqvist.\nGöran Grönberg har avböjt omval.\nNyval av Carl Fredrik Graf som ordförande och Christian Winkler som ledamot.\nStämmans avslutande.\n\n\nFölj allmänna försvarsföreningen Östergötland på Facebook
URL:https://aff.a.se/event/aff-ostergotland-inbjuder-till-seminarium-och-lansstamma/
LOCATION:Flygvapenmuseet\, Carl Cederströms gata 2\, Linköping
END:VEVENT
BEGIN:VEVENT
DTSTART;TZID=Europe/Stockholm:20190328T190000
DTEND;TZID=Europe/Stockholm:20190328T210000
DTSTAMP:20260422T014025
CREATED:20190211T112358Z
LAST-MODIFIED:20190315T093636Z
UID:3155-1553799600-1553806800@aff.a.se
SUMMARY:Sverker Göranson: ”En exposé av svensk militär förmåga under min tid som ÖB och var står vi idag”
DESCRIPTION:Sverker Göranson \nAllmänna försvarsföreningen i Kalmar län inbjuder till föreläsning med Sverker Göranson. \nSverker Göranson är ledamot av Kungl Krigsvetenskapsakademin sedan 2002. Han tillhör avdelning I och valdes till styresman för akademin 2018. \nHan tog officersexamen som primus vid Kungliga Krigsskolan Karlberg 1977 och har därefter tjänstgjort i pansarförbanden som plutonchef\, kompanichef och ställföreträdande bataljonschef med specialisering på stridsvagnssystemet. Vidare har tjänstgöring genomförts på såväl försvarsområdesstab som på markoperativ avdelning på militärområdesstab. Han har genomgått Försvarshögskolans chefsutbildning samt chefsutbildning vid US Army Command and General Staff College där han också blivit invald i Hall of Fame för internationella officerare. \nSverker Göranson tjänstgjorde 1995–96 i UNPROFOR och IFOR i Bosnien. Han var brigadchef för Livgardesbrigaden efter vilket följde drygt tre år som arméattaché i Washington DC 2000–03. Vid återkomst till Sverige var befattningen planeringschef vid Högkvarterets  Strategiledning. Göranson var Arméinspektör 2005–07. Därefter var han chef Högkvarteret och stabschef 2007–09. Slutligen var Göranson under 6\,5 år från mars 2009 till sin pension 1 oktober 2015 Sveriges Överbefälhavare. \nEfter föreläsningen finns möjlighet till frågor och diskussion i samband med ärtsoppa\, pannkaka\, lättöl/vatten och kaffe till subventionerat pris 60 kr. Mot tillägg av 40 krerbjuds ett glas varm punsch. \nAnmälan till 073-667 57 22 eller dan.fogby@hotmail.com senast den 21/3. OBS! Ange om du också deltar på eftersitsen.
URL:https://aff.a.se/event/sverker-goranson-en-expose-av-svensk-militar-formaga-under-min-tid-som-ob-och-var-star-vi-idag/
LOCATION:Linnéuniversitetet Kalmar\, Nygatan 18\, Kalmar\, Sverige
END:VEVENT
END:VCALENDAR