BEGIN:VCALENDAR
VERSION:2.0
PRODID:-//AFF - ECPv6.15.17.1//NONSGML v1.0//EN
CALSCALE:GREGORIAN
METHOD:PUBLISH
X-WR-CALNAME:AFF
X-ORIGINAL-URL:https://aff.a.se
X-WR-CALDESC:Händelser för AFF
REFRESH-INTERVAL;VALUE=DURATION:PT1H
X-Robots-Tag:noindex
X-PUBLISHED-TTL:PT1H
BEGIN:VTIMEZONE
TZID:Europe/Stockholm
BEGIN:DAYLIGHT
TZOFFSETFROM:+0100
TZOFFSETTO:+0200
TZNAME:CEST
DTSTART:20180325T010000
END:DAYLIGHT
BEGIN:STANDARD
TZOFFSETFROM:+0200
TZOFFSETTO:+0100
TZNAME:CET
DTSTART:20181028T010000
END:STANDARD
BEGIN:DAYLIGHT
TZOFFSETFROM:+0100
TZOFFSETTO:+0200
TZNAME:CEST
DTSTART:20190331T010000
END:DAYLIGHT
BEGIN:STANDARD
TZOFFSETFROM:+0200
TZOFFSETTO:+0100
TZNAME:CET
DTSTART:20191027T010000
END:STANDARD
BEGIN:DAYLIGHT
TZOFFSETFROM:+0100
TZOFFSETTO:+0200
TZNAME:CEST
DTSTART:20200329T010000
END:DAYLIGHT
BEGIN:STANDARD
TZOFFSETFROM:+0200
TZOFFSETTO:+0100
TZNAME:CET
DTSTART:20201025T010000
END:STANDARD
END:VTIMEZONE
BEGIN:VEVENT
DTSTART;TZID=Europe/Stockholm:20190424T190000
DTEND;TZID=Europe/Stockholm:20190424T210000
DTSTAMP:20260421T192902
CREATED:20190422T085628Z
LAST-MODIFIED:20190422T085719Z
UID:3360-1556132400-1556139600@aff.a.se
SUMMARY:Är vår beredskap god?
DESCRIPTION:Vad händer om strömmen går\, hur förberedd är du?\nVilka utmaningar står vårt län inför vid ett längre strömavbrott? Vilka beredskapsförberedelser bör var och en vidta? \n\nPaneldiskussion med länets företrädare från: \nLänsstyrelsen\, Region Jämtland Härjedalen\, MSB\, LRF\, Östersunds kommun\, Jämtkraft\, Försvarsmakten och Polisen. \nModerator: Landshövding Jöran Hägglund \nOnsdagen den 24 april kl 19.00 i Mittuniversitetets sal F229. \nVi bjuder på kaffe från kl 18.30. Gratis inträde. \nVälkomna!
URL:https://aff.a.se/event/ar-var-beredskap-god/
LOCATION:Mittuniversitetet\, hus F\, Kunskapens väg 12\, Östersund
END:VEVENT
END:VCALENDAR