BEGIN:VCALENDAR
VERSION:2.0
PRODID:-//AFF - ECPv6.15.17.1//NONSGML v1.0//EN
CALSCALE:GREGORIAN
METHOD:PUBLISH
X-WR-CALNAME:AFF
X-ORIGINAL-URL:https://aff.a.se
X-WR-CALDESC:Händelser för AFF
REFRESH-INTERVAL;VALUE=DURATION:PT1H
X-Robots-Tag:noindex
X-PUBLISHED-TTL:PT1H
BEGIN:VTIMEZONE
TZID:Europe/Stockholm
BEGIN:DAYLIGHT
TZOFFSETFROM:+0100
TZOFFSETTO:+0200
TZNAME:CEST
DTSTART:20180325T010000
END:DAYLIGHT
BEGIN:STANDARD
TZOFFSETFROM:+0200
TZOFFSETTO:+0100
TZNAME:CET
DTSTART:20181028T010000
END:STANDARD
BEGIN:DAYLIGHT
TZOFFSETFROM:+0100
TZOFFSETTO:+0200
TZNAME:CEST
DTSTART:20190331T010000
END:DAYLIGHT
BEGIN:STANDARD
TZOFFSETFROM:+0200
TZOFFSETTO:+0100
TZNAME:CET
DTSTART:20191027T010000
END:STANDARD
BEGIN:DAYLIGHT
TZOFFSETFROM:+0100
TZOFFSETTO:+0200
TZNAME:CEST
DTSTART:20200329T010000
END:DAYLIGHT
BEGIN:STANDARD
TZOFFSETFROM:+0200
TZOFFSETTO:+0100
TZNAME:CET
DTSTART:20201025T010000
END:STANDARD
END:VTIMEZONE
BEGIN:VEVENT
DTSTART;TZID=Europe/Stockholm:20190515T081500
DTEND;TZID=Europe/Stockholm:20190515T093000
DTSTAMP:20260421T180156
CREATED:20190506T185728Z
LAST-MODIFIED:20190506T191311Z
UID:3403-1557908100-1557912600@aff.a.se
SUMMARY:Föreläsning: The Geopolitical Crisis of the 2020’s
DESCRIPTION:Inbjudan till föreläsning:\nThe Geopolitical Crisis of the 2020’s\nMed anledningen av Barry Pavel’s besök till Stockholm har Allmänna Försvarsföreningen (AFF) och Atlantic Council glädjen att bjuda in Dig till en föreläsning om de geopolitiska utmaningar som ligger framför oss i en turbulent värld. \nBarry Pavel är Senior Vice President och Director för Scowcroft Center för strategi och säkerhet på Atlantic Council i Washington DC.  Barry Pavel har tidigare arbetat i många år som senior tjänsteman på det amerikanska Försvarsdepartementet. Åren 2008–2010 tjänstgjorde han som rådgivare till både President George W. Bush och President Barack Obama och som Senior Director för försvarspolitik och strategi vid det Nationella Säkerhetsrådet (NSC). \nSeminariet hålls på engelska. \nProgram:\n08.15 – 08.30  Registrering\n08.30 – 09.30  Välkomstord\, presentation och diskussion \nAnna Wieslander\, Generalsekreterare AFF och Director Northern Europe\, Atlantic Council. \nBarry Pavel\, Senior Vice President och Director\, Scowcroft Center for Strategy and Security\, Atlantic Council. \nO.S.A. senast den 14 maj till Elin Schiffer\, projektassistent på Atlantic Council\, genom att skicka ett email till eschiffer@atlanticcouncil.org
URL:https://aff.a.se/event/forelasning-the-geopolitical-crisis-of-the-2020s/
LOCATION:Medelhavsmuseet\, Fredsgatan 2\, Stockholm\, Sverige
END:VEVENT
END:VCALENDAR