BEGIN:VCALENDAR
VERSION:2.0
PRODID:-//AFF - ECPv6.15.17.1//NONSGML v1.0//EN
CALSCALE:GREGORIAN
METHOD:PUBLISH
X-WR-CALNAME:AFF
X-ORIGINAL-URL:https://aff.a.se
X-WR-CALDESC:Händelser för AFF
REFRESH-INTERVAL;VALUE=DURATION:PT1H
X-Robots-Tag:noindex
X-PUBLISHED-TTL:PT1H
BEGIN:VTIMEZONE
TZID:Europe/Stockholm
BEGIN:DAYLIGHT
TZOFFSETFROM:+0100
TZOFFSETTO:+0200
TZNAME:CEST
DTSTART:20180325T010000
END:DAYLIGHT
BEGIN:STANDARD
TZOFFSETFROM:+0200
TZOFFSETTO:+0100
TZNAME:CET
DTSTART:20181028T010000
END:STANDARD
BEGIN:DAYLIGHT
TZOFFSETFROM:+0100
TZOFFSETTO:+0200
TZNAME:CEST
DTSTART:20190331T010000
END:DAYLIGHT
BEGIN:STANDARD
TZOFFSETFROM:+0200
TZOFFSETTO:+0100
TZNAME:CET
DTSTART:20191027T010000
END:STANDARD
BEGIN:DAYLIGHT
TZOFFSETFROM:+0100
TZOFFSETTO:+0200
TZNAME:CEST
DTSTART:20200329T010000
END:DAYLIGHT
BEGIN:STANDARD
TZOFFSETFROM:+0200
TZOFFSETTO:+0100
TZNAME:CET
DTSTART:20201025T010000
END:STANDARD
END:VTIMEZONE
BEGIN:VEVENT
DTSTART;TZID=Europe/Stockholm:20190523T183000
DTEND;TZID=Europe/Stockholm:20190523T203000
DTSTAMP:20260421T175755
CREATED:20190422T091042Z
LAST-MODIFIED:20190422T091218Z
UID:3370-1558636200-1558643400@aff.a.se
SUMMARY:Försvarsberedningens försvars- och säkerhetspolitiska rapport
DESCRIPTION:Varmt välkommen till en presentation av: \nFörsvarsberedningens försvars- och säkerhetspolitiska rapport\nPresentationen görs av \n \nTommy Åkesson\nHuvudsekreterare i Försvarsberedningen\n \nAllmänna Försvarsföreningen i Skåne inbjuder i samarbete med Försvarsutbildarna Skåne och i samverkan med Reservofficersföreningen Norra Skåne\, Reservofficersföreningen i Skåne (Ris) samt F 10  Kamratförening till en presentation av försvarsberedningens förslag till regeringen för totalförsvarets inriktning för åren 2021 till och med 2025. \nKommer försvarskostnaderna att öka från 1\,0 % till 1\,5% av BNP?\nKommer P7 att bli en av tre mekaniserade brigader i landet? \nProgram\n1830-1845   E.ON informerar\n1845-1930   Presentation\n1930-2030  Frågor och diskussion \nAnmälan senast den 19 maj till  Johan von Horn\, vonhornab@ektv.nu\, tfn 070-811 36 27 \nVälkommen!\nOla Fischer\nOrdförande AFF Skåne \nPontus Persson\nVice ordförande AFF Skåne \n  \n(Parkering på E.ON personalparkering) \n 
URL:https://aff.a.se/event/forsvarsberedningens-forsvars-och-sakerhetspolitiska-rapport/
LOCATION:E.ON\, Carl Gustafs väg 1
END:VEVENT
END:VCALENDAR