BEGIN:VCALENDAR
VERSION:2.0
PRODID:-//AFF - ECPv6.15.17.1//NONSGML v1.0//EN
CALSCALE:GREGORIAN
METHOD:PUBLISH
X-ORIGINAL-URL:https://aff.a.se
X-WR-CALDESC:Händelser för AFF
REFRESH-INTERVAL;VALUE=DURATION:PT1H
X-Robots-Tag:noindex
X-PUBLISHED-TTL:PT1H
BEGIN:VTIMEZONE
TZID:Europe/Stockholm
BEGIN:DAYLIGHT
TZOFFSETFROM:+0100
TZOFFSETTO:+0200
TZNAME:CEST
DTSTART:20180325T010000
END:DAYLIGHT
BEGIN:STANDARD
TZOFFSETFROM:+0200
TZOFFSETTO:+0100
TZNAME:CET
DTSTART:20181028T010000
END:STANDARD
BEGIN:DAYLIGHT
TZOFFSETFROM:+0100
TZOFFSETTO:+0200
TZNAME:CEST
DTSTART:20190331T010000
END:DAYLIGHT
BEGIN:STANDARD
TZOFFSETFROM:+0200
TZOFFSETTO:+0100
TZNAME:CET
DTSTART:20191027T010000
END:STANDARD
BEGIN:DAYLIGHT
TZOFFSETFROM:+0100
TZOFFSETTO:+0200
TZNAME:CEST
DTSTART:20200329T010000
END:DAYLIGHT
BEGIN:STANDARD
TZOFFSETFROM:+0200
TZOFFSETTO:+0100
TZNAME:CET
DTSTART:20201025T010000
END:STANDARD
END:VTIMEZONE
BEGIN:VEVENT
DTSTART;TZID=Europe/Stockholm:20191021T183000
DTEND;TZID=Europe/Stockholm:20191021T203000
DTSTAMP:20260421T185116
CREATED:20191013T103201Z
LAST-MODIFIED:20191013T103201Z
UID:3719-1571682600-1571689800@aff.a.se
SUMMARY:Totalförsvarets återkomst – hur påverkar det oss i Norr?
DESCRIPTION:Inbjudan till Totalförsvarsdiskussion i Umeå under ovanstående rubrik.  \nProgram:\nI samband med att Länsstyrelserna i norr och Försvarsmakten har Totalförsvarsdagarna i Umeå inbjuder AFF Västerbotten till en afton öppen för alla i Totalförsvarets tecken.  \nSeminariet inleds med en presentation om den Försvarspolitiska inriktningen\, varefter chefen för Militärregion Norr Ulf Siverstedt redogör för sina visioner för försvaret i Norr. Därefter presenterar Tobias Vintheimer från Länsstyrelsen Västerbotten hur de jobbar med totalförsvarsfrågor här i Västerbotten. \nEfter presentationerna genomförs en paneldiskussion om Totalförsvaret i Norr i vilken publiken inbjuds att delta. Moderator kommer Niklas Eklund Docent i Statsvetenskap vid Umeå Universitet att vara.  \n\n\n\n18:30     \nVälkomna\nTorgny Forss\n\n\n\n\nModeratorns inledning\nNiklas Eklund\n\n\n\n\n– Försvarspolitisk inriktning\nJan Hyllander\n\n\n\n\n– Utveckling inom Norra Militärregionen     \nUlf Siverstedt\n\n\n\n\n– Totalförsvar i Västerbotten\nTobias Vintheimer\n\n\n\n\nFrågestund under ledning av moderator\n\n\n\n\n20:30\nAvslutning\n\n\n\nVälkomna!
URL:https://aff.a.se/event/totalforsvarets-aterkomst-hur-paverkar-det-oss-i-norr/
LOCATION:Kulturhuset Väven\, Storgatan 46 A\, Umeå
END:VEVENT
END:VCALENDAR