BEGIN:VCALENDAR
VERSION:2.0
PRODID:-//AFF - ECPv6.15.17.1//NONSGML v1.0//EN
CALSCALE:GREGORIAN
METHOD:PUBLISH
X-WR-CALNAME:AFF
X-ORIGINAL-URL:https://aff.a.se
X-WR-CALDESC:Händelser för AFF
REFRESH-INTERVAL;VALUE=DURATION:PT1H
X-Robots-Tag:noindex
X-PUBLISHED-TTL:PT1H
BEGIN:VTIMEZONE
TZID:Europe/Stockholm
BEGIN:DAYLIGHT
TZOFFSETFROM:+0100
TZOFFSETTO:+0200
TZNAME:CEST
DTSTART:20190331T010000
END:DAYLIGHT
BEGIN:STANDARD
TZOFFSETFROM:+0200
TZOFFSETTO:+0100
TZNAME:CET
DTSTART:20191027T010000
END:STANDARD
BEGIN:DAYLIGHT
TZOFFSETFROM:+0100
TZOFFSETTO:+0200
TZNAME:CEST
DTSTART:20200329T010000
END:DAYLIGHT
BEGIN:STANDARD
TZOFFSETFROM:+0200
TZOFFSETTO:+0100
TZNAME:CET
DTSTART:20201025T010000
END:STANDARD
BEGIN:DAYLIGHT
TZOFFSETFROM:+0100
TZOFFSETTO:+0200
TZNAME:CEST
DTSTART:20210328T010000
END:DAYLIGHT
BEGIN:STANDARD
TZOFFSETFROM:+0200
TZOFFSETTO:+0100
TZNAME:CET
DTSTART:20211031T010000
END:STANDARD
END:VTIMEZONE
BEGIN:VEVENT
DTSTART;TZID=Europe/Stockholm:20200319T180000
DTEND;TZID=Europe/Stockholm:20200319T194500
DTSTAMP:20260422T021702
CREATED:20200220T111118Z
LAST-MODIFIED:20200316T105638Z
UID:4099-1584640800-1584647100@aff.a.se
SUMMARY:INSTÄLLT! Länsstämma Östergötland samt seminarium Klimat och konflikt
DESCRIPTION:INSTÄLLT!\nLänsstämma Östergötland samt seminarium Klimat och konflikt\nAFF Östergötland är stolta och glada att kunna bjuda in medlemmar i Allmänna Försvarsföreningen till Visualiseringscenter i Norrköping i samband med årets länsstämma och vårens seminarium den 19 mars. Ta chansen att uppleva ett av Östergötlands populära besöksmål och att ta del av en filmvisning i den kupolformade biosalongen där du omsluts av ljud och bild i 360°. Seminariet tar sig an ett högaktuellt tema i form av klimatförändringar\, naturligtvis med en försvars- och säkerhetspolitisk vinkel. \nTid: 19 mars\, klockan 18.00-19.45 (kaffe/te serveras från 17.30)\nPlats: Visualiseringscenter\, Kungsgatan 54\, Norrköping – Observera platsen! \nKallelse till länsstämman (pdf) »\nVerksamhetsberättelse (pdf) »\nInbjudan till seminariet finns nedan och här (pdf) » \nKlimat och konflikt\nEtt seminarium om det försvars- och säkerhetspolitiska landskapet i klimatförändringarnas spår \nI en framtid där världen är varmare ändras förutsättningarna för livet på jorden så som vi känner det. Platser på vår planet blir obeboeliga för människan och extrema väderfenomen påverkar tillgången till mat. Klimatet är en av de faktorer som styr hur morgondagens flyktingströmmar kommer att röra sig. \nUnder Arktis smältande isar döljer sig naturfyndigheter i form av olja och gas. Det i kombination med de snabbare transporter som det öppna vattnet i norr för med sig har väckt intresse från flera nationer\, ett intresse som enligt vissa bedömare kan vara en krutdurk. \nVilka säkerhetsrisker och påföljande försvars- och säkerhetspolitiska spänningar följer i klimatförändringarnas spår? \nRickard Söder\, forskningsassistent inom programmet för klimatförändringar och risker\, SIPRI delar med sig av forskning som rör sig både på den globala och nationella arenan. Magnus Mateo Edström\, klimatanpassningssamordnare vid enheten för energi och klimat\, Länsstyrelsen i Östergötland\, belyser det regionala perspektivet. Seminariet inleds med filmen En varmare värld\, som visas i Visualiseringscenters imponerande dom. Moderator är Widar Andersson\, chefredaktör på Folkbladet. \nProgram\n\nOrdförande i Allmänna Försvarsföreningen i Östergötland\, Landshövding Carl Fredrik Graf\, hälsar välkommen\nLänsstämma\nFilmvisning: En varmare värld\nKlimatförändringar\, säkerhet och organisatorisk förändring\, Rickard Söder\, forskningsassistent\, SIPRI\nKlimatrisker i Östergötland\, Magnus Mateo Edström\, klimatanpassningssamordnare\, Länsstyrelsen i Östergötland\nPanelsamtal och frågestund\n\nModerator: Widar Andersson\, chefredaktör\, Folkbladet \n\n		\n		\n			\n				\n			\n			\n				\n			\n			\n		\n\nT v Rickard Söder\, SIPRI\, och t h Magnus Mateo Edström\, Länsstyrelsen i Östergötland \nAnmälan\nVid detta seminarium finns begränsat antal platser. Vänligen anmäl dig via e-post\, ostergotland@aff.a.se. Meddela även om du får förhinder. \nVarmt välkommen!
URL:https://aff.a.se/event/lansstamma-ostergotland-samt-seminarium-klimat-och-konflikt/
LOCATION:Visualiseringscenter\, Kungsgatan 54\, Norrköping
END:VEVENT
END:VCALENDAR