BEGIN:VCALENDAR
VERSION:2.0
PRODID:-//AFF - ECPv6.15.17.1//NONSGML v1.0//EN
CALSCALE:GREGORIAN
METHOD:PUBLISH
X-ORIGINAL-URL:https://aff.a.se
X-WR-CALDESC:Händelser för AFF
REFRESH-INTERVAL;VALUE=DURATION:PT1H
X-Robots-Tag:noindex
X-PUBLISHED-TTL:PT1H
BEGIN:VTIMEZONE
TZID:Europe/Stockholm
BEGIN:DAYLIGHT
TZOFFSETFROM:+0100
TZOFFSETTO:+0200
TZNAME:CEST
DTSTART:20190331T010000
END:DAYLIGHT
BEGIN:STANDARD
TZOFFSETFROM:+0200
TZOFFSETTO:+0100
TZNAME:CET
DTSTART:20191027T010000
END:STANDARD
BEGIN:DAYLIGHT
TZOFFSETFROM:+0100
TZOFFSETTO:+0200
TZNAME:CEST
DTSTART:20200329T010000
END:DAYLIGHT
BEGIN:STANDARD
TZOFFSETFROM:+0200
TZOFFSETTO:+0100
TZNAME:CET
DTSTART:20201025T010000
END:STANDARD
BEGIN:DAYLIGHT
TZOFFSETFROM:+0100
TZOFFSETTO:+0200
TZNAME:CEST
DTSTART:20210328T010000
END:DAYLIGHT
BEGIN:STANDARD
TZOFFSETFROM:+0200
TZOFFSETTO:+0100
TZNAME:CET
DTSTART:20211031T010000
END:STANDARD
END:VTIMEZONE
BEGIN:VEVENT
DTSTART;TZID=Europe/Stockholm:20201102T183000
DTEND;TZID=Europe/Stockholm:20201102T210000
DTSTAMP:20260420T082212
CREATED:20200921T132541Z
LAST-MODIFIED:20201029T094751Z
UID:4347-1604341800-1604350800@aff.a.se
SUMMARY:INSTÄLLT: Försvarsdebatt i Malmö
DESCRIPTION:INSTÄLLT\nAllmänna Försvarsföreningen\, Kungliga Krigsvetenskapsakademien och Försvarsutbildarna inbjuder till försvarsdebatt med rubriken: \nFörsvarsbeslut i skuggan av coronapandemin – Det säkerhetspolitiska nödvändiga eller politiskt möjliga?\nMåndagen den 2 november kl. 18.30–21.00 ca på Kockum Fritid\, Västra Varvsgatan 8 i Malmö. Kombineras med webbseminarium. \nInledning\nGeneralmajor Karlis Neretnieks\, tidigare rektor vid Försvarshögskolan \nPaneldebatt med följande deltagare:\nPål Jonson (M)\, ordförande i försvarsutskottet\nNiklas Karlsson (S)\,vice ordförande i försvarsutskottet\nAllan Widman (L)\, ledamot i försvarsutskottet \nModerator:\nSven Christer Nilsson\, tidigare ordförande i FMV styrelse \nAnmälan\nPå grund av coronapandemin genomförs debatten som en kombination av högst 50 fysiskt närvarande deltagare i lokalen och ett så kallat webbinarium vilket innebär att du deltar digitalt. Anmäl dig till olafischer1@gmail.com tel 0708 237250 senast den 26 oktober. Ange om du vill delta fysiskt eller digitalt. ”Först till kvarn” gäller. Uppgifter om hur du deltar digitalt skickas ut strax före evenemanget. \nVälkommen! \nOla Fischer\, ordförande i Aff Skåne
URL:https://aff.a.se/event/forsvarsforum-2/
LOCATION:Kockum Fritid\, Västra Varvsgatan 8\, Malmö
ATTACH;FMTTYPE=image/png:https://aff.a.se/wp-content/uploads/2017/09/forsvforum.png
END:VEVENT
END:VCALENDAR