BEGIN:VCALENDAR
VERSION:2.0
PRODID:-//AFF - ECPv6.15.17.1//NONSGML v1.0//EN
CALSCALE:GREGORIAN
METHOD:PUBLISH
X-ORIGINAL-URL:https://aff.a.se
X-WR-CALDESC:Händelser för AFF
REFRESH-INTERVAL;VALUE=DURATION:PT1H
X-Robots-Tag:noindex
X-PUBLISHED-TTL:PT1H
BEGIN:VTIMEZONE
TZID:Europe/Stockholm
BEGIN:DAYLIGHT
TZOFFSETFROM:+0100
TZOFFSETTO:+0200
TZNAME:CEST
DTSTART:20200329T010000
END:DAYLIGHT
BEGIN:STANDARD
TZOFFSETFROM:+0200
TZOFFSETTO:+0100
TZNAME:CET
DTSTART:20201025T010000
END:STANDARD
BEGIN:DAYLIGHT
TZOFFSETFROM:+0100
TZOFFSETTO:+0200
TZNAME:CEST
DTSTART:20210328T010000
END:DAYLIGHT
BEGIN:STANDARD
TZOFFSETFROM:+0200
TZOFFSETTO:+0100
TZNAME:CET
DTSTART:20211031T010000
END:STANDARD
BEGIN:DAYLIGHT
TZOFFSETFROM:+0100
TZOFFSETTO:+0200
TZNAME:CEST
DTSTART:20220327T010000
END:DAYLIGHT
BEGIN:STANDARD
TZOFFSETFROM:+0200
TZOFFSETTO:+0100
TZNAME:CET
DTSTART:20221030T010000
END:STANDARD
END:VTIMEZONE
BEGIN:VEVENT
DTSTART;TZID=Europe/Stockholm:20211018T183000
DTEND;TZID=Europe/Stockholm:20211018T200000
DTSTAMP:20260419T144708
CREATED:20210830T083503Z
LAST-MODIFIED:20210830T083559Z
UID:4768-1634581800-1634587200@aff.a.se
SUMMARY:Försvarsforum i Karlstad: Försvarsmaktens utveckling och civilt försvar
DESCRIPTION:Allmänna Försvarsföreningen Värmland tillsammans med Försvarsutbildarna Värmland bjuder i samarbete med Kungliga Krigsvetenskapsakademien in till Försvarsforum i Karlstad. \n\n\n\n\nFrån Kungl Krigsvetenskapsakademien gästas vi av konteramiral Odd Werin och fd. generaldirektör Björn Körlof. \nOdd Werin kommer att tala över ämnet Försvarsmaktens utveckling medan Björn Körlof behandlar ämnet Civilt försvar och fd. landshövding Barbro Holmbergs utredning Struktur för ökad motståndskraft. \n\n\n\n\n\n\nTid: Måndag den 18 oktober 2021\, kl. 18.30. \n\n\n\n\n\n\nPlats: Scandic Winn\, Karlstad. Se anvisningar i receptionen \nHjärtligt välkomna! \nBengt Fransson \nSekreterare\, Allmänna Försvarsföreningen Värmland För mer information kontakta: benfra64@gmail.com
URL:https://aff.a.se/event/forsvarsforum-i-karlstad-forsvarsmaktens-utveckling-och-civilt-forsvar/
LOCATION:Scandic Winn\, Karlstad\, Norra Strandgatan 9-11\, Karlstad\, 652 24
ATTACH;FMTTYPE=image/png:https://aff.a.se/wp-content/uploads/2021/08/Skarmavbild-2021-08-30-kl.-10.34.14.png
ORGANIZER;CN="AFF V%C3%A4rmland":MAILTO:benfra64@gmail.com
END:VEVENT
END:VCALENDAR