BEGIN:VCALENDAR
VERSION:2.0
PRODID:-//AFF - ECPv6.15.17.1//NONSGML v1.0//EN
CALSCALE:GREGORIAN
METHOD:PUBLISH
X-WR-CALNAME:AFF
X-ORIGINAL-URL:https://aff.a.se
X-WR-CALDESC:Händelser för AFF
REFRESH-INTERVAL;VALUE=DURATION:PT1H
X-Robots-Tag:noindex
X-PUBLISHED-TTL:PT1H
BEGIN:VTIMEZONE
TZID:Europe/Stockholm
BEGIN:DAYLIGHT
TZOFFSETFROM:+0100
TZOFFSETTO:+0200
TZNAME:CEST
DTSTART:20200329T010000
END:DAYLIGHT
BEGIN:STANDARD
TZOFFSETFROM:+0200
TZOFFSETTO:+0100
TZNAME:CET
DTSTART:20201025T010000
END:STANDARD
BEGIN:DAYLIGHT
TZOFFSETFROM:+0100
TZOFFSETTO:+0200
TZNAME:CEST
DTSTART:20210328T010000
END:DAYLIGHT
BEGIN:STANDARD
TZOFFSETFROM:+0200
TZOFFSETTO:+0100
TZNAME:CET
DTSTART:20211031T010000
END:STANDARD
BEGIN:DAYLIGHT
TZOFFSETFROM:+0100
TZOFFSETTO:+0200
TZNAME:CEST
DTSTART:20220327T010000
END:DAYLIGHT
BEGIN:STANDARD
TZOFFSETFROM:+0200
TZOFFSETTO:+0100
TZNAME:CET
DTSTART:20221030T010000
END:STANDARD
END:VTIMEZONE
BEGIN:VEVENT
DTSTART;TZID=Europe/Stockholm:20211027T180000
DTEND;TZID=Europe/Stockholm:20211027T193000
DTSTAMP:20260419T144400
CREATED:20211014T062314Z
LAST-MODIFIED:20211014T062314Z
UID:4799-1635357600-1635363000@aff.a.se
SUMMARY:Försvarsforum 2021: Framtidens totalförsvar
DESCRIPTION:          \n  \n  \nInbjudan till FörsvarsForum 2021  ”Framtidens totalförsvar”. \nFörsvarsForum 2021 Stockholm genomförs onsdagen den 27 oktober 2021 kl 18.00 på Försvarshögskolan under rubriken ”Framtidens totalförsvar”. \nVi testar med att genomföra det med både publik på plats och med en digital streaming för att så många som möjligt ska kunna delta. \nTalare från Krigsvetenskapsakademin är Björn Körlof\, Johan René\, samt Michael Sahlin. Panelen består också av riksdagsledamöterna Allan Vidman (L) och Hanna Gunnarsson (v). Moderator Minou Sadeghpour (AFF). \nDu anmäler dig på e-post till stockholm@forsvarsutbildarna.se och anger om du vill delta på plats eller om du är med digitalt. Vi behöver också ditt personnummer samt uppgift om du redan är medlem i Försvarsutbildarna/någon annan frivillig försvarsorganisation eller inte. \nSista anmälningsdag är tisdagen 26 oktober 2021. \nFör dig som deltar på plats är adressen Drottning Kristinas väg 37 och det är insläpp från 17.30. Vi kommer att begränsa antalet som kan delta på plats till 50 för att ff respektera risken för smittspridning.\nFör dig som deltar digitalt kommer länken den 26 oktober 2021. \nArrangemanget genomförs som ett samarbetsprojekt mellan Försvarsutbildarna Stockholm och Södermanland\, Krigsvetenskapsakademin och Allmänna Försvarsföreningen. \nHjärtligt välkomna\nIrma Palm\nFörbundssekreterare\nFörsvarsutbildarna Stockholm och Södermanland\n0705589353
URL:https://aff.a.se/event/forsvarsforum-2021-framtidens-totalforsvar/
LOCATION:Försvarshögskolan\, Drottning Kristinas väg 37\, Stockholm
END:VEVENT
END:VCALENDAR