BEGIN:VCALENDAR
VERSION:2.0
PRODID:-//AFF - ECPv6.15.17.1//NONSGML v1.0//EN
CALSCALE:GREGORIAN
METHOD:PUBLISH
X-ORIGINAL-URL:https://aff.a.se
X-WR-CALDESC:Händelser för AFF
REFRESH-INTERVAL;VALUE=DURATION:PT1H
X-Robots-Tag:noindex
X-PUBLISHED-TTL:PT1H
BEGIN:VTIMEZONE
TZID:Europe/Stockholm
BEGIN:DAYLIGHT
TZOFFSETFROM:+0100
TZOFFSETTO:+0200
TZNAME:CEST
DTSTART:20180325T010000
END:DAYLIGHT
BEGIN:STANDARD
TZOFFSETFROM:+0200
TZOFFSETTO:+0100
TZNAME:CET
DTSTART:20181028T010000
END:STANDARD
BEGIN:DAYLIGHT
TZOFFSETFROM:+0100
TZOFFSETTO:+0200
TZNAME:CEST
DTSTART:20190331T010000
END:DAYLIGHT
BEGIN:STANDARD
TZOFFSETFROM:+0200
TZOFFSETTO:+0100
TZNAME:CET
DTSTART:20191027T010000
END:STANDARD
BEGIN:DAYLIGHT
TZOFFSETFROM:+0100
TZOFFSETTO:+0200
TZNAME:CEST
DTSTART:20200329T010000
END:DAYLIGHT
BEGIN:STANDARD
TZOFFSETFROM:+0200
TZOFFSETTO:+0100
TZNAME:CET
DTSTART:20201025T010000
END:STANDARD
END:VTIMEZONE
BEGIN:VEVENT
DTSTART;TZID=Europe/Stockholm:20191111T183000
DTEND;TZID=Europe/Stockholm:20191111T210000
DTSTAMP:20260421T185249
CREATED:20191029T075132Z
LAST-MODIFIED:20191029T075132Z
UID:3868-1573497000-1573506000@aff.a.se
SUMMARY:Storövningar inom totalförsvaret år 2020
DESCRIPTION:Hanna Pettersson\, Beredskapshandläggare\, Länsstyrelsen Kronoberg. Foto: Privat.\n				\n			\n				\n			\n				\n				Stefan Andersson\, Brigadgeneral\, Försvarsmaktens övningsledare. Foto: Fredrik Ruuda.\n				\n			\n		\n\nDet militära och civila försvaret är beroende av varandra och behövs i det totala försvaret av Sverige. Myndigheter\, regioner och kommuner\, företag och organisationer ansvarar för att samhället ska fungera.  \nUnder år 2020 genomförs en totalförsvarsövning i Sverige – TFÖ 2020. Övningen genomförs i en fiktiv situation där regeringen beslutat om höjd beredskap\, totalförsvaret mobiliserats och Sverige utsätts för väpnat angrepp. Under kvällens föredrag presenterar Hanna Pettersson och Stefan Andersson vad övningarna innebär för det civila respektive militära försvarets deltagande. \nMåndagen den 11 november\, kl 18:30 i IOGT-NTO-huset\, Vattentorget 1\, Växjö \nVälkomna!\nAllmänna Försvarsföreningen och Försvarsutbildarna
URL:https://aff.a.se/event/storovningar-inom-totalforsvaret-ar-2020/
LOCATION:IOGT-NTO-huset\, Vattentorget 1\, Växjö
ATTACH;FMTTYPE=image/jpeg:https://aff.a.se/wp-content/uploads/2019/02/logo-aff-forsvarsutbildarna-2.jpg
END:VEVENT
BEGIN:VEVENT
DTSTART;TZID=Europe/Stockholm:20191118T180000
DTEND;TZID=Europe/Stockholm:20191118T194500
DTSTAMP:20260421T185249
CREATED:20191017T053624Z
LAST-MODIFIED:20191017T054052Z
UID:3739-1574100000-1574106300@aff.a.se
SUMMARY:Dagarna som skakade Linköping
DESCRIPTION:  \nDagarna som skakade Linköping\nSprängdåden som satte samhällets krisberedskap på prov \nAllmänna Försvarsföreningen i Östergötland bjuder i samverkan med Försvarsutbildarna i Östergötland in personer och organisationer som är intresserade av samhällssäkerhet till ett seminarium i Linköping. \nTid: 18 november\, klockan 18.00-19.45 (insläpp från 17.30)\nPlats: Linköpings stadshus\, Storgatan 43\, Linköping – Observera platsen! \nUnder sommaren 2019 skakades Linköping av två sprängdåd som kom många kommuninvånare skrämmande nära och bokstavligen påverkade dem i deras hem. Lägenheter och vårdboenden evakuerades och människor fick se sina bostäder förstöras. Samhällets krisberedskap sattes på prov i skarpt läge\, det gäller både de enskilda instanserna var och en för sig och kanske framför allt de olika aktörerna i samverkan. \nHur förberett var Linköping på att hantera situationer som dessa? Hur organiserades arbetet de första timmarna och dagarna efter dåden – och hur fortlöper utredningsarbetet? Vilka lärdomar har dragits och hur fångas de upp? Hur har Linköping påverkats\, och är det en ny vardag och verklighet vi går till mötes? \nFöreträdare från Linköpings kommun\, Polisen\, Region Östergötland\, Räddningstjänsten i Östra Götaland och Stångåstaden delger sina erfarenheter och reflekterar under ledning av moderator Widar Andersson\, chefredaktör\, Folkbladet. \nProgram\n\nOrdförande i Allmänna Försvarsföreningen i Östergötland\, Landshövding Carl Fredrik Graf\, hälsar välkommen.\nSå har Linköping påverkats av sprängningarna – inledningsanförande av Paul Håkansson\, kommundirektör\, Linköpings kommun.\nPanelsamtal och frågestund\n\nPaul Håkansson\, kommundirektör\, Linköpings kommun\nJohn Andåker\, bitr. lokalpolisområdeschef i Linköping\, Polisen\nHeidi Berger\, marknadschef\, Stångåstaden\nJonas Holmgren\, operativ chef\, Räddningstjänsten i Östra Götaland\nRickard Lundin\, centrumchef för Katastrofmedicinskt centrum\, Region Östergötland\n\n\n\nModerator: Widar Andersson\, chefredaktör\, Folkbladet \nAnmälan\nDu som är medlem i Allmänna Försvarsföreningen anmäler dig via e-post\, ostergotland@aff.a.se\nMedlemmar i Försvarsutbildarna anmäler sig enligt ordinarie rutiner. \nVarmt välkommen!
URL:https://aff.a.se/event/dagarna-som-skakade-linkoping/
LOCATION:Linköpings stadshus\, Storgatan 43\, Linköping
END:VEVENT
BEGIN:VEVENT
DTSTART;TZID=Europe/Stockholm:20191118T183000
DTEND;TZID=Europe/Stockholm:20191118T210000
DTSTAMP:20260421T185249
CREATED:20191021T172612Z
LAST-MODIFIED:20191021T173415Z
UID:3785-1574101800-1574110800@aff.a.se
SUMMARY:Försvarsberedningens rapport – det säkerhetspolitiska nödvändiga eller det politiskt möjliga?
DESCRIPTION:Allmänna Försvarsföreningen\, Kungl Krigsvetenskapsakademien och Försvarsutbildarna inbjuder till Försvarsdebatt måndagen den 18 november kl. 18.30–21.00 ca på Kockum Fritid\, Västra Varvsgatan 8 i Malmö.  \n”Försvarsberedningens rapport – det säkerhetspolitiska nödvändiga eller det politiskt möjliga?”\nDebatten är öppen för allmänheten. \nInledning\nGeneralmajor Karlis Neretnieks\, tidigare rektor vid Försvarshögskolan \nPaneldebatt med följande deltagare\nBeatrice Ask (M)\, ordförande i försvarsutskottet\nNiklas Karlsson (S)\,vice ordförande i försvarsutskottet\nRoger Richtoff (SD)\, ledamot i försvarsutskottet \nModerator\nSven Christer Nilsson\, tidigare ordförande i FMV styrelse \nAnmälan\nSenast den 11 november till olafischer1@gmail.com eller tel 0708 237250. Tag gärna med en gäst!  \n  \nVälkomna\nOla Fischer\, ordförande i Aff Skåne
URL:https://aff.a.se/event/forsvarsberedningens-rapport-det-sakerhetspolitiska-nodvandiga-eller-det-politiskt-mojliga/
LOCATION:Kockum Fritid\, Västra Varvsgatan 8\, Malmö
END:VEVENT
BEGIN:VEVENT
DTSTART;TZID=Europe/Stockholm:20191126T183000
DTEND;TZID=Europe/Stockholm:20191126T210000
DTSTAMP:20260421T185249
CREATED:20191021T174637Z
LAST-MODIFIED:20191102T081541Z
UID:3799-1574793000-1574802000@aff.a.se
SUMMARY:Vår Säkerhet och Vårt Försvar
DESCRIPTION:Ett seminarium med paneldebatt och frågestund i Arsenalen\, Strängnäs tisdagen den 26 november\, kl. 18.30 – 21.00 \nVår Säkerhet och Vårt Försvar\n\n”Europeisk säkerhet/säkerhetspolitik: utmaningar och svar”\nMichael Sahlin\, Ambassadör\, ledamot i Kungliga Krigsvetenskapsakademien\nFörsvarsberedningens rapport och betänkande\nTommy Åkesson\, huvudsekreterare Försvarsberedningen\, ledamot i Kungliga Krigsvetenskapsakademien\n”En krigares reflektion kring beredningens rapport”\nUlf Henricsson\, Överste 1:a\, ledamot i Kungliga Krigsvetenskapsakademin\n\nI panelen medverkar följande kommentatorer\nDaniel Bäckström (C)\, Riksdagsledamot\, Försvarsutskottet\nMikael Oscarsson (KD)\, Riksdagsledamot\, Försvarsutskottet \nModerator\nOlof Jonmyren\, Politisk redaktör \nDebatt och frågestund \nVi bjuder på kaffe och smörgås. \nAnmäl ditt deltagande senast 24 november till sodermanland@forsvarsutbildarna.se \nVarmt välkomna!
URL:https://aff.a.se/event/var-sakerhet-och-vart-forsvar/
LOCATION:Arsenalen\, Strängnäs
END:VEVENT
END:VCALENDAR