BEGIN:VCALENDAR
VERSION:2.0
PRODID:-//AFF - ECPv6.15.17.1//NONSGML v1.0//EN
CALSCALE:GREGORIAN
METHOD:PUBLISH
X-ORIGINAL-URL:https://aff.a.se
X-WR-CALDESC:Händelser för AFF
REFRESH-INTERVAL;VALUE=DURATION:PT1H
X-Robots-Tag:noindex
X-PUBLISHED-TTL:PT1H
BEGIN:VTIMEZONE
TZID:Europe/Stockholm
BEGIN:DAYLIGHT
TZOFFSETFROM:+0100
TZOFFSETTO:+0200
TZNAME:CEST
DTSTART:20180325T010000
END:DAYLIGHT
BEGIN:STANDARD
TZOFFSETFROM:+0200
TZOFFSETTO:+0100
TZNAME:CET
DTSTART:20181028T010000
END:STANDARD
BEGIN:DAYLIGHT
TZOFFSETFROM:+0100
TZOFFSETTO:+0200
TZNAME:CEST
DTSTART:20190331T010000
END:DAYLIGHT
BEGIN:STANDARD
TZOFFSETFROM:+0200
TZOFFSETTO:+0100
TZNAME:CET
DTSTART:20191027T010000
END:STANDARD
BEGIN:DAYLIGHT
TZOFFSETFROM:+0100
TZOFFSETTO:+0200
TZNAME:CEST
DTSTART:20200329T010000
END:DAYLIGHT
BEGIN:STANDARD
TZOFFSETFROM:+0200
TZOFFSETTO:+0100
TZNAME:CET
DTSTART:20201025T010000
END:STANDARD
END:VTIMEZONE
BEGIN:VEVENT
DTSTART;TZID=Europe/Stockholm:20191202T180000
DTEND;TZID=Europe/Stockholm:20191202T200000
DTSTAMP:20260421T202346
CREATED:20191119T172215Z
LAST-MODIFIED:20191119T172625Z
UID:3932-1575309600-1575316800@aff.a.se
SUMMARY:Försvarsforum 2019 - Hur försvara Sverige?
DESCRIPTION:Välkommen till paneldebatt i Sverigesalen på Försvarshögskolan 2 december 2019 kl 18.00\nDrottning Kristinas väg 37\, Tbana Tekniska Högskolan \nAnalys av rapporterna Motståndskraft och Värnkraft samt processen på väg mot ett försvarsbeslut. \nPaneldebatt med följande deltagare: \nTommy Åkesson\, sekreterare i Försvarsberedningen inleder med att tala om vad politiken vill åstadkomma utifrån beredningens rapport\nMichael Claesson\, FM talar om vad som går att åstadkomma inom ramen för lagd ekonomi\nHenrik Moberg\, MSB\, talar om läget vad gäller uppbyggnaden av det civila försvaret\nKristina Syk Straterno\, reflekterar över det sagda\nJörgen Ericsson\, KKrVA\, gör dito  \nReflektioner från inbjudna försvarspolitiker \nModerator: Minou Sadeghpour \nObligatorisk föranmälan med personnummer senast 30 november 2019 på\nhttps://crm.forsvarsutbildarna.se/Pages/Evt/EventSignUp.aspx?eventguid=7514941a-2478-40be-b5e0-124a96d25e68\neller till stockholm@forsvarsutbildarna.se \nVarmt välkommen!\nFörsvarsutbildarna Stockholm och Södermanland och ordförande Föreningen Samhällsberedskap \n[pdf]
URL:https://aff.a.se/event/forsvarsforum-2019-hur-forsvara-sverige/
LOCATION:Försvarshögskolan\, Drottning Kristinas väg 37\, Stockholm
END:VEVENT
END:VCALENDAR