BEGIN:VCALENDAR
VERSION:2.0
PRODID:-//AFF - ECPv6.15.17.1//NONSGML v1.0//EN
CALSCALE:GREGORIAN
METHOD:PUBLISH
X-WR-CALNAME:AFF
X-ORIGINAL-URL:https://aff.a.se
X-WR-CALDESC:Händelser för AFF
REFRESH-INTERVAL;VALUE=DURATION:PT1H
X-Robots-Tag:noindex
X-PUBLISHED-TTL:PT1H
BEGIN:VTIMEZONE
TZID:Europe/Stockholm
BEGIN:DAYLIGHT
TZOFFSETFROM:+0100
TZOFFSETTO:+0200
TZNAME:CEST
DTSTART:20190331T010000
END:DAYLIGHT
BEGIN:STANDARD
TZOFFSETFROM:+0200
TZOFFSETTO:+0100
TZNAME:CET
DTSTART:20191027T010000
END:STANDARD
BEGIN:DAYLIGHT
TZOFFSETFROM:+0100
TZOFFSETTO:+0200
TZNAME:CEST
DTSTART:20200329T010000
END:DAYLIGHT
BEGIN:STANDARD
TZOFFSETFROM:+0200
TZOFFSETTO:+0100
TZNAME:CET
DTSTART:20201025T010000
END:STANDARD
BEGIN:DAYLIGHT
TZOFFSETFROM:+0100
TZOFFSETTO:+0200
TZNAME:CEST
DTSTART:20210328T010000
END:DAYLIGHT
BEGIN:STANDARD
TZOFFSETFROM:+0200
TZOFFSETTO:+0100
TZNAME:CET
DTSTART:20211031T010000
END:STANDARD
END:VTIMEZONE
BEGIN:VEVENT
DTSTART;TZID=Europe/Stockholm:20200214T081500
DTEND;TZID=Europe/Stockholm:20200214T093000
DTSTAMP:20260421T231744
CREATED:20200114T092530Z
LAST-MODIFIED:20200128T153952Z
UID:4032-1581668100-1581672600@aff.a.se
SUMMARY:Seminarium i Stockholm: Framtidens Hemvärn
DESCRIPTION:För att uppmärksamma hemvärnets växande roll i det svenska försvaret arrangerar Allmänna Försvarsföreningen (AFF) den 14 februari i Stockholm ett seminarium om hemvärnet. Tillsammans med Rikshemvärnschefen Generalmajor Stefan Sandborg och PM Nilsson från Dagens Industri diskuterar vi vad som behöver göras för att Sverige ska ha ett väl fungerande hemvärn i framtiden. \nHemvärnet har en central roll i Försvarsmakten\, men allmänheten har en ganska låg kunskapsnivå om vad hemvärnets roll är i det svenska försvaret.  Hemvärnsförbanden omfattas idag av ca 21 000 soldater och föreslås öka till 25 000 hemvärnssoldater enligt Försvarsberedningens rapport. Rapporten föreslår även att ”hemvärnet måste ges ett stort ansvar att inom givna ramar självständigt kunna göra prioriteringar och identifiera behov”. För att uppnå de mål som uttalas i rapporten\, exempelvis en krigsorganisation om minst 25 000 soldater och att i fredstida kriser kunna kalla in hemvärnsförband\, måste en diskussion föras om hur framtidens hemvärn ser ut. \nSeminariet kommer ta upp frågor såsom: \n\nÄr dagens hemvärn ändamålsenligt? Vad är de största utmaningarna?\nÄr det frivilliga engagemanget tillräckligt stort för att tillfredsställa personalförsörjningen i hemvärnsförbanden?\nVilka är de största utmaningarna kring att Hemvärnet ska ha en större möjlighet att stödja samhället vid fredstida kriser?\n\nAnmäl dig genom att maila till elin.schiffer@aff.a.se\, senast den 7/2/2020. \nInbjudan riktar sig främst till AFF:s medlemmar\, men i mån av plats även till övriga med intresse för försvarsfrågor. \nDatum: 14 februari 2020\nPlats: SAAB Huvudkontor\, Olof Palmes Gata 17\, 111 22 Stockholm. \nProgram\n08:15-08:30 Registrering\, inkl. servering av frukostfralla och kaffe.  \n08:30-08:35 Inledningsord \n\nRepresentant från SAAB (TBA)\nElin Schiffer\, Projektledare\, Allmänna Försvarsföreningen\n\n08:35-09:15 Paneldiskussion om framtidens hemvärn \n\nGeneralmajor Stefan Sandborg\, Rikshemvärnschef\nPM Nilson\, Politisk redaktör på Dagens Industri\n\n09:15-09:30 Frågestund  \n09:30 Seminariet slut.  \n 
URL:https://aff.a.se/event/framtidens-hemvarn/
LOCATION:SAAB Huvudkontor\, Olof Palmes Gata 17\, Stockholm
END:VEVENT
BEGIN:VEVENT
DTSTART;TZID=Europe/Stockholm:20200227T180000
DTEND;TZID=Europe/Stockholm:20200227T183000
DTSTAMP:20260421T231744
CREATED:20200128T153829Z
LAST-MODIFIED:20200128T153853Z
UID:4077-1582826400-1582828200@aff.a.se
SUMMARY:AFF Kronoberg inbjuder till årsstämma och föredrag i Växjö
DESCRIPTION:Samtliga medlemmar i Allmänna Försvarsföreningens länsavdelning i Kronobergs län kallas till stämma för länsavdelningen. \n\n\nDatum\nTorsdagen den 27 februari\, 2020\n\n\n\nTid\nKlockan 18.00\n\n\n\nPlats\nSigfridsalen i Domkyrkocentrum\, Gymnasiegränd\, Växjö\n\n\nEnligt §4 i gällande stadga för Allmänna Försvarsföreningen gäller att ”En länsavdelning organiseras om möjligt i varje län. För att leda verksamheten inom länsavdelning utses inom länet en styrelse med ordförande och sekreterare samt ytterligare minst en ledamot. Styrelse utses vid länsavdelnings stämma\, som genomförs senast den 15 april.” \nEfter stämman anordnas föredrag enligt separat inbjudan »
URL:https://aff.a.se/event/aff-kronoberg-inbjuder-till-arsstamma-och-foredrag/
LOCATION:Domkyrkocentrum\, Gymnasiegränd 1\, Växjö
END:VEVENT
BEGIN:VEVENT
DTSTART;TZID=Europe/Stockholm:20200227T183000
DTEND;TZID=Europe/Stockholm:20200227T200000
DTSTAMP:20260421T231744
CREATED:20200128T153737Z
LAST-MODIFIED:20200128T153802Z
UID:4080-1582828200-1582833600@aff.a.se
SUMMARY:Föredrag i Växjö: Det totalförsvar vi hade
DESCRIPTION:Samuel Palmblad\, Enhetschef byggnadsvård\, Kulturparken Småland. Foto: Privat\nDet totalförsvar vi hade\nTotalförsvaret i Sverige består idag av militär verksamhet (militärt försvar) och civil verksamhet (civilt försvar) och är den verksamhet som behövs i händelse av krig. Under högsta beredskap är totalförsvar all samhällsverksamhet som då ska bedrivas. Totalförsvaret ska utformas och dimensioneras för att kunna möta väpnat angrepp mot Sverige inklusive stridshandlingar på svenskt territorium. \nUnder det kalla kriget förberedde sig Sverige på ett eventuellt tredje världskrig genom att inrätta krisberedskap\, totalförsvar och eget kärnvapenprogram medan stormakterna kapprustade. Hur såg totalförsvaret ut då? Vad fanns det för ingående delar på plats i Kronoberg? Samuel Palmblad kommer under kvällen ge oss en bild av det totalförsvar vi tidigare hade och de byggnader som skapats för detta. \nTorsdagen den 27 februari\, kl 1830\ni Domkyrkocentrum\, Gymnasiegränd\, Växjö \nVälkomna! \nAllmänna Försvarsföreningen och Försvarsutbildarna
URL:https://aff.a.se/event/foredrag-det-totalforsvar-vi-hade/
LOCATION:Domkyrkocentrum\, Gymnasiegränd 1\, Växjö
END:VEVENT
END:VCALENDAR